BEGIN:VCALENDAR
VERSION:2.0
PRODID:-//Philadelphia Professional Football Cheerleader Alumni - ECPv6.15.20//NONSGML v1.0//EN
CALSCALE:GREGORIAN
METHOD:PUBLISH
X-WR-CALNAME:Philadelphia Professional Football Cheerleader Alumni
X-ORIGINAL-URL:https://ppfca.org
X-WR-CALDESC:Events for Philadelphia Professional Football Cheerleader Alumni
REFRESH-INTERVAL;VALUE=DURATION:PT1H
X-Robots-Tag:noindex
X-PUBLISHED-TTL:PT1H
BEGIN:VTIMEZONE
TZID:America/New_York
BEGIN:DAYLIGHT
TZOFFSETFROM:-0500
TZOFFSETTO:-0400
TZNAME:EDT
DTSTART:20240310T070000
END:DAYLIGHT
BEGIN:STANDARD
TZOFFSETFROM:-0400
TZOFFSETTO:-0500
TZNAME:EST
DTSTART:20241103T060000
END:STANDARD
BEGIN:DAYLIGHT
TZOFFSETFROM:-0500
TZOFFSETTO:-0400
TZNAME:EDT
DTSTART:20250309T070000
END:DAYLIGHT
BEGIN:STANDARD
TZOFFSETFROM:-0400
TZOFFSETTO:-0500
TZNAME:EST
DTSTART:20251102T060000
END:STANDARD
BEGIN:DAYLIGHT
TZOFFSETFROM:-0500
TZOFFSETTO:-0400
TZNAME:EDT
DTSTART:20260308T070000
END:DAYLIGHT
BEGIN:STANDARD
TZOFFSETFROM:-0400
TZOFFSETTO:-0500
TZNAME:EST
DTSTART:20261101T060000
END:STANDARD
END:VTIMEZONE
BEGIN:VEVENT
DTSTART;TZID=America/New_York:20250409T190000
DTEND;TZID=America/New_York:20250409T190000
DTSTAMP:20260423T091207
CREATED:20250317T200347Z
LAST-MODIFIED:20250317T201236Z
UID:3308-1744225200-1744225200@ppfca.org
SUMMARY:Archives Committee Informational Zoom Call
DESCRIPTION:  \nPPFCA is embarking on a journey to capture and preserve our history & legacy as former Eaglettes\, Liberty Belles & Philadelphia Eagles Cheerleaders\, and we’d LOVE your help! \nWe enthusiastically welcome everyone’s support as we continuously explore ways to celebrate PPFCA’s 180+ members’ commitment to continuing the rich legacy of Philadelphia Eagles Cheerleading! We are the only alumni group specifically created “For Cheerleaders\, By Cheerleaders.” This offers us the unique opportunity to bring together a wonderful\, and ever-growing group\, increase support for each other\, celebrate our shared experiences as former Eagles Cheerleaders\, and honor causes important to our members! \nIf you are interested in learning more or joining our Archive Committee\, please join the informational Zoom call by registering HERE or reach out to our Archives Committee Chair\, Mandi at PPFCAarchive@gmail.com.
URL:https://ppfca.org/event/archives-committee-informational-zoom-call/
LOCATION:NJ
ATTACH;FMTTYPE=image/png:https://ppfca.org/wp-content/uploads/2025/03/ARCHIVE-COMM-share.png
END:VEVENT
BEGIN:VEVENT
DTSTART;TZID=America/New_York:20250415T120000
DTEND;TZID=America/New_York:20250415T150000
DTSTAMP:20260423T091207
CREATED:20250414T181640Z
LAST-MODIFIED:20250414T181640Z
UID:3610-1744718400-1744729200@ppfca.org
SUMMARY:Jaws Youth Playbook Community Garden Build 🌳
DESCRIPTION:PPFCA Members\, please consider this very last minute opportunity to support JYP!  \nEvent: Community Garden Build \nWhen: Tuesday\, April 15\, 2025 | 12:00-3:00pm (Rain date April 16\, 12:00-3:00pm)\nWhere: Alain Locke School 4550 Haverford Ave\, Philadelphia\, PA 19104. You may park in the school parking lot (entrance on Haverford Ave)\, or find street parking if there are no spaces available. \nWhat: We will build a school garden to be used by grades K-8! Tasks will include constructing wooden garden beds and moving soil and mulch.\nNote: Please wear closed toe shoes\, bring a water bottle\, and consider long sleeves/pants to avoid scratches and insect bites.
URL:https://ppfca.org/event/jaws-youth-playbook-community-garden-build-%f0%9f%8c%b3/
LOCATION:Alain Locke School\, 4550 Haverford Ave\, Philadelphia\, PA\, 19104
ATTACH;FMTTYPE=image/png:https://ppfca.org/wp-content/uploads/2025/04/Untitled-design-53.png
END:VEVENT
BEGIN:VEVENT
DTSTART;TZID=America/New_York:20250426T100000
DTEND;TZID=America/New_York:20250426T120000
DTSTAMP:20260423T091207
CREATED:20250414T182725Z
LAST-MODIFIED:20250414T182747Z
UID:3614-1745661600-1745668800@ppfca.org
SUMMARY:Help Refresh the Lil' Philly Safety Village 🚲
DESCRIPTION:JAWS Youth Playbook helped fund this Lil’ Traffic Park- Now it’s in need of sprucing up!   \nPlease use the sign up link below to help our community!  \nPPFCA Members\, Volunteer to Sign up here: https://www.signupgenius.com/go/10C0A44A5A92EAAFAC34-56194311-lil?useFullSite=true \n 
URL:https://ppfca.org/event/help-lil-philly-safety-village-%f0%9f%9a%b2/
LOCATION:Lil Safety Village\, 1201 Hunting Park Ave.\, Philadelphia\, PA\, 19140
ATTACH;FMTTYPE=image/png:https://ppfca.org/wp-content/uploads/2025/04/Untitled-design-54.png
END:VEVENT
END:VCALENDAR