BEGIN:VCALENDAR
VERSION:2.0
PRODID:-//Philadelphia Professional Football Cheerleader Alumni - ECPv6.15.20//NONSGML v1.0//EN
CALSCALE:GREGORIAN
METHOD:PUBLISH
X-WR-CALNAME:Philadelphia Professional Football Cheerleader Alumni
X-ORIGINAL-URL:https://ppfca.org
X-WR-CALDESC:Events for Philadelphia Professional Football Cheerleader Alumni
REFRESH-INTERVAL;VALUE=DURATION:PT1H
X-Robots-Tag:noindex
X-PUBLISHED-TTL:PT1H
BEGIN:VTIMEZONE
TZID:America/New_York
BEGIN:DAYLIGHT
TZOFFSETFROM:-0500
TZOFFSETTO:-0400
TZNAME:EDT
DTSTART:20240310T070000
END:DAYLIGHT
BEGIN:STANDARD
TZOFFSETFROM:-0400
TZOFFSETTO:-0500
TZNAME:EST
DTSTART:20241103T060000
END:STANDARD
BEGIN:DAYLIGHT
TZOFFSETFROM:-0500
TZOFFSETTO:-0400
TZNAME:EDT
DTSTART:20250309T070000
END:DAYLIGHT
BEGIN:STANDARD
TZOFFSETFROM:-0400
TZOFFSETTO:-0500
TZNAME:EST
DTSTART:20251102T060000
END:STANDARD
BEGIN:DAYLIGHT
TZOFFSETFROM:-0500
TZOFFSETTO:-0400
TZNAME:EDT
DTSTART:20260308T070000
END:DAYLIGHT
BEGIN:STANDARD
TZOFFSETFROM:-0400
TZOFFSETTO:-0500
TZNAME:EST
DTSTART:20261101T060000
END:STANDARD
END:VTIMEZONE
BEGIN:VEVENT
DTSTART;TZID=America/New_York:20250120T150000
DTEND;TZID=America/New_York:20250120T170000
DTSTAMP:20260423T143511
CREATED:20241027T164823Z
LAST-MODIFIED:20250119T154911Z
UID:2814-1737385200-1737392400@ppfca.org
SUMMARY:A Day of Service: Bonding Over Bonding Squares For NICU Families
DESCRIPTION:*Our Philadelphia Professional Football Cheerleader Alumni Day of Service\, supporting Today is a Good Day is still scheduled for tomorrow\, January 20th. In the event we need to cancel or reschedule due to the weather\, all who’ve RSVP’ed will receive an update by 10am tomorrow morning. CHEERS! 💚\n“Dr. Martin Luther King Jr. lived his life serving others. Following his example\, millions of Americans serve on Martin Luther King Jr. Day of Service. At our children’s schools\, at a local shelter\, or lending a hand to help our neighbors – we bring to life his vision of neighbors working together to build a better future.”\nJoin PPFCA for a National Day of Service on Martin Luther King Jr. Day\, January 20\, 2025\, from 3:00- 5:00 pm\, as we once again come together to support the important efforts of Today is a Good Day. \nToday is a Good Day is the leading provider of NICU family support in the Delaware Valley…and beyond\, providing 10 years of hope and building community through personal and financial support for families who experience the NICU. \nThis year\, with your help\, we will come together to create bonding squares. Bonding squares are intended to help NICU families to bond with their babies through smell—one of the most developed senses in premature infants. \nOne bonding square can be worn against the parent’s skin\, and one can be left as comfort with the baby in the isolette. Each day\, the squares can be swapped so that the baby has the parent’s scent and the parent has the baby’s scent. \n*For those unable to join us\, but still interested in contributing\, please visit this site to create Bonding Squares at home ahead of time: https://www.todayisagoodday.org/bonding-squares \nWe hope you can join us for this opportunity to connect with fellow Alumni and support the wonderful community efforts of Today is a Good Day! \nYou are more than welcome to bring your children to help! Early Dinner will be provided by PPFCA\, bonding squares materials will be provided by Today is a Good day. \nPlease come dressed comfortably\, no PPFCA attire required for this event. \nRSVP below and join us as we honor this wonderful organization with a special day of service. \nhttps://m.signupgenius.com/#!/showRSVPSignUp/10C0A4BA8A72FA2FDC16-53994088-bonding
URL:https://ppfca.org/event/bonding-over-bonding-squares-for-nicu-families/
LOCATION:Audrey’s House\, 21 Dunminning Road\, Newtown Square\, 19073\, United States
ATTACH;FMTTYPE=image/png:https://ppfca.org/wp-content/uploads/2024/10/A-day-of-Service-benefiting-1.png
END:VEVENT
BEGIN:VEVENT
DTSTART;TZID=America/New_York:20250127T190000
DTEND;TZID=America/New_York:20250127T200000
DTSTAMP:20260423T143511
CREATED:20250116T163717Z
LAST-MODIFIED:20250118T141112Z
UID:3199-1738004400-1738008000@ppfca.org
SUMMARY:Team Philadelphia Eagles Cheerleaders 🦅 EAC Exclusive Zoom Experience
DESCRIPTION:All current PPFCA Members are invited to attend this special Zoom experience\, whether you’ve already joined “Team Philadelphia Eagles Cheerleaders” for the 2025 Eagles Autism Challenge\, or you’ve yet to join and you’d like to learn more! ZOOM details will be sent on the day of the call for all attendees. \nRSVP Here! 💚🦅
URL:https://ppfca.org/event/team-philadelphia-eagles-cheerleaders-eac-collaborative-zoom-experience/
LOCATION:NJ
ATTACH;FMTTYPE=image/png:https://ppfca.org/wp-content/uploads/2025/01/12725-E.png
END:VEVENT
END:VCALENDAR