BEGIN:VCALENDAR
VERSION:2.0
PRODID:-//Philadelphia Professional Football Cheerleader Alumni - ECPv6.15.20//NONSGML v1.0//EN
CALSCALE:GREGORIAN
METHOD:PUBLISH
X-ORIGINAL-URL:https://ppfca.org
X-WR-CALDESC:Events for Philadelphia Professional Football Cheerleader Alumni
REFRESH-INTERVAL;VALUE=DURATION:PT1H
X-Robots-Tag:noindex
X-PUBLISHED-TTL:PT1H
BEGIN:VTIMEZONE
TZID:America/New_York
BEGIN:DAYLIGHT
TZOFFSETFROM:-0500
TZOFFSETTO:-0400
TZNAME:EDT
DTSTART:20230312T070000
END:DAYLIGHT
BEGIN:STANDARD
TZOFFSETFROM:-0400
TZOFFSETTO:-0500
TZNAME:EST
DTSTART:20231105T060000
END:STANDARD
BEGIN:DAYLIGHT
TZOFFSETFROM:-0500
TZOFFSETTO:-0400
TZNAME:EDT
DTSTART:20240310T070000
END:DAYLIGHT
BEGIN:STANDARD
TZOFFSETFROM:-0400
TZOFFSETTO:-0500
TZNAME:EST
DTSTART:20241103T060000
END:STANDARD
BEGIN:DAYLIGHT
TZOFFSETFROM:-0500
TZOFFSETTO:-0400
TZNAME:EDT
DTSTART:20250309T070000
END:DAYLIGHT
BEGIN:STANDARD
TZOFFSETFROM:-0400
TZOFFSETTO:-0500
TZNAME:EST
DTSTART:20251102T060000
END:STANDARD
END:VTIMEZONE
BEGIN:VEVENT
DTSTART;TZID=America/New_York:20241112T080000
DTEND;TZID=America/New_York:20241210T170000
DTSTAMP:20260423T173835
CREATED:20241112T194449Z
LAST-MODIFIED:20241203T230433Z
UID:2860-1731398400-1733850000@ppfca.org
SUMMARY:Toys for Tots Holiday Toy Drive
DESCRIPTION:We’d like to extend a big THANK YOU to all of the alumni who’ve already made generous donations to help create some extra CHEER this holiday season for children in the Philadelphia Area!\nPPFCA is wholeheartedly committed to continuing the rich legacy of Philadelphia Eagles Cheerleading\, which includes giving back to our diverse communities. For our 4th Annual “Holiday Giving from the Heart\,” Initiative\, we proudly join the efforts of the National Football Cheerleaders Alumni Association in collecting gifts for “Toys for Tots” in the Philadelphia area. \n “When you give today\, you’ll help us fill our toy box with gifts and ensure every child has a present to open his holiday season. Your contribution\, no matter the size\, will go a long way in bringing smiles and joy to children who need it most.” \n\nCurrent drop off locations are still being confirmed\, however you can send gifts from the current Amazon Wish List found here\, or purchase your own gifts online. Every donation is greatly appreciated!\nPlease send all online gifts directly to our PPFCA Director of Community Affairs\, at the following address:\n\nErin Goga \n235 Fireline Rd \nKintnersville\, PA 18930 \n  \n  \n  \n  \n  \n 
URL:https://ppfca.org/event/toys-for-tots-holiday-toy-drive/
LOCATION:NJ
ATTACH;FMTTYPE=image/png:https://ppfca.org/wp-content/uploads/2024/11/Holiday-Toy-Drive.png
END:VEVENT
BEGIN:VEVENT
DTSTART;TZID=America/New_York:20241119T190000
DTEND;TZID=America/New_York:20241119T200000
DTSTAMP:20260423T173835
CREATED:20241109T214626Z
LAST-MODIFIED:20241109T220357Z
UID:2837-1732042800-1732046400@ppfca.org
SUMMARY:DEI Kickoff Zoom 💚
DESCRIPTION:Greetings Cheer Family 💚 \nWe’re excited to announce the kickoff of our PPFCA Diversity\, Equity\, and Inclusion (DEI) Committee\, and we would love for you to be part of it! \nOur goal is to create a light\, fun\, safe space where all voices are heard\, celebrated\, and supported. We’re inviting alumni from all backgrounds\, as well as allies who are passionate about inclusion\, to join us in an initial brainstorming and kickoff discussion. Together\, we’ll share our experiences\, explore how we can best support each other\, and plan meaningful ways to bring our talents to the broader membership\, community at large and to those who wish to follow in our footsteps (cheerleaders of tomorrow!) \nPlease come to this call ready to share:  \nAt least one idea of how we can activate and serve our community? What encouraged you to want to be part of this committee? How can we help improve the experiences of future generations? \nAgenda: \n1. Greetings and Welcome! \n2. It’s A Pleasure To Meet You! \n3. Our Legacy – Ongoing Shout Out! \n4. That’s A Wrap! \nWe look forward to having an open conversation where we can all listen\, learn\, and continue building something impactful. This is a great chance to help shape our mission\, as well as its future initiatives\, events\, and opportunities. \nWhether you’re a longtime advocate or just beginning your DEI journey\, we welcome you. Let’s come together\, connect\, and make a difference! \nSincerely your Cheer-Sisters at PPFCA! \n\n\n\n\n\n\n\n\n\n*Please contact your Decade Representative for ZOOM Meeting details\, including direct link\, Meeting ID and Passcode.
URL:https://ppfca.org/event/dei-kickoff-zoom-%f0%9f%92%9a/
LOCATION:Online
ATTACH;FMTTYPE=image/png:https://ppfca.org/wp-content/uploads/2024/11/Zoom2.png
END:VEVENT
BEGIN:VEVENT
DTSTART;TZID=America/New_York:20241120T190000
DTEND;TZID=America/New_York:20241120T193000
DTSTAMP:20260423T173835
CREATED:20241116T195005Z
LAST-MODIFIED:20241116T210713Z
UID:2865-1732129200-1732131000@ppfca.org
SUMMARY:Informational Thanksgiving Parade Attendee Zoom
DESCRIPTION:An informational Zoom Meeting has been scheduled for 11/20/24\n\n@ 7:00PM EST\, and ALL Parade Attendees are welcomed and encouraged to attend! \nPlease check your last PPFCA emails or reach out to your Decade Representative for Zoom invitation details.
URL:https://ppfca.org/event/informational-thanksgiving-parade-attendee-zoom/
LOCATION:NJ
ATTACH;FMTTYPE=image/png:https://ppfca.org/wp-content/uploads/2024/11/Thanksgiving-Parade-Zoom-Call.png
END:VEVENT
BEGIN:VEVENT
DTSTART;TZID=America/New_York:20241127T060000
DTEND;TZID=America/New_York:20241128T170000
DTSTAMP:20260423T173835
CREATED:20241021T224855Z
LAST-MODIFIED:20241105T190340Z
UID:2794-1732687200-1732813200@ppfca.org
SUMMARY:6abc Dunkin' Thanksgiving Day Parade! 🦃
DESCRIPTION:PPFCA is honored to receive an invitation to join the Philadelphia Eagles Cheerleaders\, Philadelphia Eagles Pep Band & Philadelphia Eagles Drumline in the 6abc Dunkin’ Thanksgiving Day Parade! \nCurrent Parade Details: \n\nAll registered attendees should have received their waiver receipt confirmation via email from our PPFCA Secretary.\nPlan to wear black leggings\, black sneakers and a long sleeve\, black mock neck top.  The Green Eagles sweatshirt you ordered for the parade will be given to you the day of the performance. Pom poms and black headbands will be provided as well.\nIf you have not yet made your non-refundable\, $45 Venmo payment to PPFCA to complete your sweatshirt purchase\, please do so at your earliest convenience.\nAll alumni cheerleaders will be attending as PPFCA\, and are asked to honor PPFCA Code of Conduct\nPlease familiarize yourself with the performances found in the link provided. The bumps and fight song will be performed together by all alumni as PPFCA representatives.                                      Parade Performance Tutorials\nRehearsal & Parade Day Meeting times and locations TBD\n\nPlease contact your PPFCA Decade Representative with any further questions or concerns leading up to the event. Cheers! \nWe excitedly look forward to making this an annual collaboration with the Philadelphia Eagles🦅
URL:https://ppfca.org/event/6abc-thanksgiving-day-parade-%f0%9f%a6%83/
LOCATION:Philadelphia\, PA\, Philadelphia\, PA
ATTACH;FMTTYPE=image/png:https://ppfca.org/wp-content/uploads/2024/10/Save-the-date-1.png
END:VEVENT
END:VCALENDAR