BEGIN:VCALENDAR
VERSION:2.0
PRODID:-//Philadelphia Professional Football Cheerleader Alumni - ECPv6.15.20//NONSGML v1.0//EN
CALSCALE:GREGORIAN
METHOD:PUBLISH
X-WR-CALNAME:Philadelphia Professional Football Cheerleader Alumni
X-ORIGINAL-URL:https://ppfca.org
X-WR-CALDESC:Events for Philadelphia Professional Football Cheerleader Alumni
REFRESH-INTERVAL;VALUE=DURATION:PT1H
X-Robots-Tag:noindex
X-PUBLISHED-TTL:PT1H
BEGIN:VTIMEZONE
TZID:America/New_York
BEGIN:DAYLIGHT
TZOFFSETFROM:-0500
TZOFFSETTO:-0400
TZNAME:EDT
DTSTART:20230312T070000
END:DAYLIGHT
BEGIN:STANDARD
TZOFFSETFROM:-0400
TZOFFSETTO:-0500
TZNAME:EST
DTSTART:20231105T060000
END:STANDARD
BEGIN:DAYLIGHT
TZOFFSETFROM:-0500
TZOFFSETTO:-0400
TZNAME:EDT
DTSTART:20240310T070000
END:DAYLIGHT
BEGIN:STANDARD
TZOFFSETFROM:-0400
TZOFFSETTO:-0500
TZNAME:EST
DTSTART:20241103T060000
END:STANDARD
BEGIN:DAYLIGHT
TZOFFSETFROM:-0500
TZOFFSETTO:-0400
TZNAME:EDT
DTSTART:20250309T070000
END:DAYLIGHT
BEGIN:STANDARD
TZOFFSETFROM:-0400
TZOFFSETTO:-0500
TZNAME:EST
DTSTART:20251102T060000
END:STANDARD
END:VTIMEZONE
BEGIN:VEVENT
DTSTART;TZID=America/New_York:20241020T100000
DTEND;TZID=America/New_York:20241020T130000
DTSTAMP:20260423T192518
CREATED:20240616T010920Z
LAST-MODIFIED:20240813T204700Z
UID:2537-1729418400-1729429200@ppfca.org
SUMMARY:Inaugural Brunch Welcoming the 2023 Class of the Eagles Cheerleaders to their Alumni Era!
DESCRIPTION:Join us at our Inaugural PPFCA Brunch to Celebrate and Honor the 2023 Class of Philadelphia Eagles Cheerleader Alumni\, and Officially Welcome them to their Alumni Era! \nCome for a delicious brunch\, lots of camaraderie\, signature cocktails\, and comments by special guest speaker…our very own 2024 NFCAO Cheerleader Hall of Fame Honoree\, Sharon Sweeney! \nStay for more fun after brunch as we watch the Philadelphia Eagles take on the New York Giants at the 1:00PM Game at \nThe Towne House \nPlease see your email for more official details and to access the RSVP link. \n*All Alumni are welcome\, PPFCA Members will receive discounted ticket price for event. \n**Suggested attire\, Dressy Casual
URL:https://ppfca.org/event/brunch-welcoming-the-2023-class-of-the-eagles-cheerleaders-to-their-alumni-era/
LOCATION:The Towne House\, 117 Veterans Square\, Media\, PA\, 19063\, United States
ATTACH;FMTTYPE=image/png:https://ppfca.org/wp-content/uploads/2024/06/we-invite-you.png
END:VEVENT
END:VCALENDAR