BEGIN:VCALENDAR
VERSION:2.0
PRODID:-//Philadelphia Professional Football Cheerleader Alumni - ECPv6.15.20//NONSGML v1.0//EN
CALSCALE:GREGORIAN
METHOD:PUBLISH
X-WR-CALNAME:Philadelphia Professional Football Cheerleader Alumni
X-ORIGINAL-URL:https://ppfca.org
X-WR-CALDESC:Events for Philadelphia Professional Football Cheerleader Alumni
REFRESH-INTERVAL;VALUE=DURATION:PT1H
X-Robots-Tag:noindex
X-PUBLISHED-TTL:PT1H
BEGIN:VTIMEZONE
TZID:America/New_York
BEGIN:DAYLIGHT
TZOFFSETFROM:-0500
TZOFFSETTO:-0400
TZNAME:EDT
DTSTART:20220313T070000
END:DAYLIGHT
BEGIN:STANDARD
TZOFFSETFROM:-0400
TZOFFSETTO:-0500
TZNAME:EST
DTSTART:20221106T060000
END:STANDARD
BEGIN:DAYLIGHT
TZOFFSETFROM:-0500
TZOFFSETTO:-0400
TZNAME:EDT
DTSTART:20230312T070000
END:DAYLIGHT
BEGIN:STANDARD
TZOFFSETFROM:-0400
TZOFFSETTO:-0500
TZNAME:EST
DTSTART:20231105T060000
END:STANDARD
BEGIN:DAYLIGHT
TZOFFSETFROM:-0500
TZOFFSETTO:-0400
TZNAME:EDT
DTSTART:20240310T070000
END:DAYLIGHT
BEGIN:STANDARD
TZOFFSETFROM:-0400
TZOFFSETTO:-0500
TZNAME:EST
DTSTART:20241103T060000
END:STANDARD
END:VTIMEZONE
BEGIN:VTIMEZONE
TZID:UTC
BEGIN:STANDARD
TZOFFSETFROM:+0000
TZOFFSETTO:+0000
TZNAME:UTC
DTSTART:20220101T000000
END:STANDARD
END:VTIMEZONE
BEGIN:VEVENT
DTSTART;TZID=America/New_York:20231015T080000
DTEND;TZID=America/New_York:20231203T170000
DTSTAMP:20260423T055008
CREATED:20231015T211301Z
LAST-MODIFIED:20231015T211301Z
UID:1373-1697356800-1701622800@ppfca.org
SUMMARY:2023 PPFCA Holiday Campaign to Support FamilyMatters
DESCRIPTION:FamilyMatters offers specialized case management and support services to assist families in times of crisis in Greater Philadelphia and Southern New Jersey. FamilyMatters proudly serves all children and families regardless of race\, religion\, or nation of origin. \nWith the generosity of PPFCA\, many children and teens will experience some extra holiday cheer this season 💚 \nPlease use the link below to support this wonderful organization\, and to purchase gifts from the Amazon Wish List by December 3rd\, 2023. \nThe mailing address for all purchases from the Amazon Wish List: \nTara Nepa \n1681 Valley Road\, Newtown Square\, PA 19073
URL:https://ppfca.org/event/2023-ppfca-holiday-campaign-to-support-familymatters/
ATTACH;FMTTYPE=image/jpeg:https://ppfca.org/wp-content/uploads/2023/10/IMG_0115.jpg
END:VEVENT
BEGIN:VEVENT
DTSTART;TZID=America/New_York:20231014T100000
DTEND;TZID=America/New_York:20231014T100000
DTSTAMP:20260423T055008
CREATED:20230921T201724Z
LAST-MODIFIED:20231013T200008Z
UID:1281-1697277600-1697277600@ppfca.org
SUMMARY:Pure Barre Pop Up Class- POSTPONED INDEFINITELY!
DESCRIPTION:Join the Eagles Autism Foundation on Saturday October 7 for a donation-based\, pop-up Pure Barre class! All proceeds go to the Eagles Autism Foundation community!\n\nLink below to register!
URL:https://ppfca.org/event/pure-barre-pop-up-class/
LOCATION:Pure Barre Pop Up\, 1900 Pattison Avenue\, Philadelphia\, PA\, 19145
ATTACH;FMTTYPE=image/jpeg:https://ppfca.org/wp-content/uploads/2023/09/EAF-1.jpg
END:VEVENT
BEGIN:VEVENT
DTSTART;TZID=America/New_York:20230928T080000
DTEND;TZID=America/New_York:20230928T170000
DTSTAMP:20260423T055008
CREATED:20230927T143446Z
LAST-MODIFIED:20230927T143446Z
UID:1305-1695888000-1695920400@ppfca.org
SUMMARY:TEST
DESCRIPTION:
URL:https://ppfca.org/event/test/
LOCATION:1900 Pattison\, 1900 Pattison Avenue\, Philadelphia\, Philadelphia\, 19145\, United States
END:VEVENT
BEGIN:VEVENT
DTSTART;TZID=UTC:20230923T090000
DTEND;TZID=UTC:20230923T110000
DTSTAMP:20260423T055008
CREATED:20230819T005344Z
LAST-MODIFIED:20230819T005437Z
UID:1216-1695459600-1695466800@ppfca.org
SUMMARY:11th Annual Unite for HER Run/Walk
DESCRIPTION:PPFCA supports Unite for Her\n\n\nWe walk in support of our fellow Philadelphia Professional Football Cheerleader Alumni that have been impacted by Breast & Ovarian Cancer and dedicate it to those the we have lost along the way. \nThank you for your support of Unite for HER.  Through this donation you are helping Unite for HER Fund a Member!! Become an official Fund a Member team/individual by raising $2\,000. \nBecause of you\, Unite for HER’s unique and impactful model will be delivered to over 5\,300 people with breast and ovarian cancers nation-wide. Thank you for standing by our side as we provide support\, healing\, and empowerment to those we serve. \n$2\,000 – Funds the entire Wellness Day Experience for a full year of complementary therapies for 1 member and/or ongoing support for someone living with metastatic disease\n$1\,000 – Funds 10 professional counseling sessions for a participant during treatment and recovery or medical acupuncture\n$500 – Funds either….5 professional counseling sessions\, 5 oncology massage/reiki therapies\, a 6 month fitness membership\, or an in home/virtual cooking and shopping experience with our Registered Dietician Team\n$250 – Funds 8 weeks of fresh organic vegetables from Lancaster Farm Fresh or FarmBox\n$100- Funds a private yoga therapy session\, massage or reiki session\, or a nutritional consult with our Registered Dietician Team
URL:https://ppfca.org/event/11th-annual-uniter-for-her-run-walk/
LOCATION:West Chester\, PA\, 12 North Church Street\, West Chester\, 19380\, United States
ATTACH;FMTTYPE=image/webp:https://ppfca.org/wp-content/uploads/2023/08/1Y9A3827-e1559320361743-scaled.webp
END:VEVENT
BEGIN:VEVENT
DTSTART;TZID=UTC:20230713T183000
DTEND;TZID=UTC:20230713T183000
DTSTAMP:20260423T055008
CREATED:20230613T204456Z
LAST-MODIFIED:20230613T211423Z
UID:1159-1689273000-1689273000@ppfca.org
SUMMARY:Summer Social
DESCRIPTION:Please check your Email for more details and to RSVP!
URL:https://ppfca.org/event/summer-social/
LOCATION:Off the Rail\, 109 W State St\, Media\, PA\, 19063
ATTACH;FMTTYPE=image/jpeg:https://ppfca.org/wp-content/uploads/2023/06/SS23.jpg
END:VEVENT
BEGIN:VEVENT
DTSTART;VALUE=DATE:20230626
DTEND;VALUE=DATE:20230627
DTSTAMP:20260423T055008
CREATED:20230607T195205Z
LAST-MODIFIED:20230607T195205Z
UID:1148-1687737600-1687823999@ppfca.org
SUMMARY:NFL Alumni Golf Classic
DESCRIPTION:The NFL Alumni NY/NJ Chapter will host its 2023 Golf Classic\, \nbenefiting St. Joseph’s Children’s Hospital.
URL:https://ppfca.org/event/nfl-alumni-golf-classic/
LOCATION:Upper Montclair Country Club\, 177 Hepburn Road\, Clifton\, NJ
ATTACH;FMTTYPE=image/png:https://ppfca.org/wp-content/uploads/2023/06/LOGO-OFFICIAL-SJHCH_NFL-GolfClassicLOGO-1-outline-2048x768-1.png
END:VEVENT
BEGIN:VEVENT
DTSTART;VALUE=DATE:20230622
DTEND;VALUE=DATE:20230623
DTSTAMP:20260423T055008
CREATED:20230607T193809Z
LAST-MODIFIED:20230607T193809Z
UID:1140-1687392000-1687478399@ppfca.org
SUMMARY:Ron Jaworski Celebrity Golf Challenge
DESCRIPTION:The 39th Annual Ron Jaworski Celebrity Golf Challenge is Jaws Youth Playbook’s crown-jewel fundraiser for at-risk youth in our community and helps build playgrounds and ball fields\, donate sports equipment\, distribute hundreds of bikes over the holidays\, support summer meals for kids\, and much more!  Over the years — with help from generous sponsors and donors like you — JYP has raised more than $6 million to support underserved youth in the Greater Philadelphia area.
URL:https://ppfca.org/event/ron-jaworski-celebrity-golf-challenge/
LOCATION:Live! Casino\, 900 Packer Ave\, Philadelphia\, PA\, 19148\, United States
ATTACH;FMTTYPE=image/png:https://ppfca.org/wp-content/uploads/2023/06/golf23RJ.png
END:VEVENT
BEGIN:VEVENT
DTSTART;VALUE=DATE:20230520
DTEND;VALUE=DATE:20230521
DTSTAMP:20260423T055008
CREATED:20230520T010650Z
LAST-MODIFIED:20230520T010928Z
UID:1109-1684540800-1684627199@ppfca.org
SUMMARY:Eagles Autism Challenge- Team Eagles Cheerleaders
DESCRIPTION:The Eagles Autism Challenge is a one-day bike ride and 5k dedicated to raising awareness and funds for the autism community. Featuring Eagles players\, coaches\, cheerleaders and alumni\, the event starts and ends at Lincoln Financial Field and 100% of participant-raised funds will go toward research and care programs. \nSupport our PPFCA Members\, who will join “Team Eagles Cheerleaders” alongside current Eagles Cheer Team Members\, by donating to help them meet their fundraising goals for this impactful community event! \n*Links to their Official Fundraising pages below! \nPPFCA President and NFL Liaison\, Maggie Trush Hammond \nPPFCA 2010’s Decade Representative\,  Mandi Moffa
URL:https://ppfca.org/event/eagles-autism-challenge-team-eagles-cheerleaders/
LOCATION:Lincoln Financial Way\, One Lincoln Financial Field Way\, Philadelphia\, PA\, 19148
ATTACH;FMTTYPE=image/jpeg:https://ppfca.org/wp-content/uploads/2023/05/346061843_1410347839799246_9154103456702019758_n-2.jpg
END:VEVENT
BEGIN:VEVENT
DTSTART;TZID=America/New_York:20230511T183000
DTEND;TZID=America/New_York:20230511T203000
DTSTAMP:20260423T055008
CREATED:20230503T032836Z
LAST-MODIFIED:20230503T040815Z
UID:1067-1683829800-1683837000@ppfca.org
SUMMARY:Pay it Forward with Peggy's Pampering
DESCRIPTION:Join us as we Pay it Forward with PPFCA’s Peggy Jansen\, of Peggy’s Pampering. \nIt’s a opportunity to connect and enjoy each other’s company. Then\, after making the baskets\, everyone takes 1 or 2 with them and agrees to PAY IT FORWARD TO SOMEONE WHO COULD USE A PICK ME UP! We support Men\, Women and Children. \nWe ask that you bring with you:\nAny unwanted\, lightly used items such as candles\, toiletries\, books\, magazines\, custom jewelry\, adult /kids coloring books\, markers\, pens\, there really isn’t much we don’t take. Please limit clothing donations to scarfs or socks for men\, woman and or children\, men’s ties\, etc… Any baskets\, cellophane\, basket clear bags\, and or ribbon that is useful too. \nA sharable appetizer and BYOB to be enjoyed (pizza will be provided). \nPlease check your email for exact event location\, or email PPFCAlumni@gmail.com.
URL:https://ppfca.org/event/pay-it-forward-with-peggys-pampering/
LOCATION:Malvern\, Malvern\, PA\, 19355\, United States
ATTACH;FMTTYPE=image/png:https://ppfca.org/wp-content/uploads/2023/05/Peggys-Pampering.png
END:VEVENT
BEGIN:VEVENT
DTSTART;TZID=America/New_York:20230509T190000
DTEND;TZID=America/New_York:20230509T203000
DTSTAMP:20260423T055008
CREATED:20230503T020940Z
LAST-MODIFIED:20230503T031821Z
UID:1052-1683658800-1683664200@ppfca.org
SUMMARY:Eagles Cheerleaders Dance & Fitness Class
DESCRIPTION:Join Eagles Cheerleaders for a fun session of dance & fitness and help raise money for the Eagles Autism Challenge. Check your email for your EXCLUSIVE PPFCA Promo Code!
URL:https://ppfca.org/event/eagles-cheerleaders-dance-fitness-class/
LOCATION:Eagles Practice Facility—NovaCare Complex\, 2 Novacare Way\, Philadelphia\, PA\, 19145\, United States
ATTACH;FMTTYPE=image/jpeg:https://ppfca.org/wp-content/uploads/2023/05/1920x1080_DanceClass-1.jpg
END:VEVENT
END:VCALENDAR