BEGIN:VCALENDAR
VERSION:2.0
PRODID:-//Philadelphia Professional Football Cheerleader Alumni - ECPv6.15.20//NONSGML v1.0//EN
CALSCALE:GREGORIAN
METHOD:PUBLISH
X-WR-CALNAME:Philadelphia Professional Football Cheerleader Alumni
X-ORIGINAL-URL:https://ppfca.org
X-WR-CALDESC:Events for Philadelphia Professional Football Cheerleader Alumni
REFRESH-INTERVAL;VALUE=DURATION:PT1H
X-Robots-Tag:noindex
X-PUBLISHED-TTL:PT1H
BEGIN:VTIMEZONE
TZID:America/New_York
BEGIN:DAYLIGHT
TZOFFSETFROM:-0500
TZOFFSETTO:-0400
TZNAME:EDT
DTSTART:20250309T070000
END:DAYLIGHT
BEGIN:STANDARD
TZOFFSETFROM:-0400
TZOFFSETTO:-0500
TZNAME:EST
DTSTART:20251102T060000
END:STANDARD
BEGIN:DAYLIGHT
TZOFFSETFROM:-0500
TZOFFSETTO:-0400
TZNAME:EDT
DTSTART:20260308T070000
END:DAYLIGHT
BEGIN:STANDARD
TZOFFSETFROM:-0400
TZOFFSETTO:-0500
TZNAME:EST
DTSTART:20261101T060000
END:STANDARD
BEGIN:DAYLIGHT
TZOFFSETFROM:-0500
TZOFFSETTO:-0400
TZNAME:EDT
DTSTART:20270314T070000
END:DAYLIGHT
BEGIN:STANDARD
TZOFFSETFROM:-0400
TZOFFSETTO:-0500
TZNAME:EST
DTSTART:20271107T060000
END:STANDARD
END:VTIMEZONE
BEGIN:VEVENT
DTSTART;TZID=America/New_York:20260517T090000
DTEND;TZID=America/New_York:20260517T120000
DTSTAMP:20260422T161753
CREATED:20260416T164249Z
LAST-MODIFIED:20260416T165452Z
UID:5150-1779008400-1779019200@ppfca.org
SUMMARY:Angelman Strong
DESCRIPTION:At PPFCA\, we pride ourselves on supporting our members and their families\, showing up\, building one another up\, and standing behind the causes that matter most to our community.\n\nPlease help support our fellow PPFCA member\, Catherine Casumpang-Galdo\, coordinator of the 2026 Angelman Strong Walk  NJ (Westville)\, and the meaningful work she’s doing within this community.  This yearly event raises awareness and supports those impacted by Angelman Syndrome \, bringing people together in a powerful way to make a difference.\n\nLearn more \, register and donate here:\nhttps://support.angelman.org/event/2026-angelman-strong-nj-westville/e763302⁠
URL:https://ppfca.org/event/angelman-strong-walk/
LOCATION:Archbishop Damiano School\, 1143 Delsea Dr\, Westville\, NJ
ATTACH;FMTTYPE=image/jpeg:https://ppfca.org/wp-content/uploads/2026/04/497856786_689303273859702_1683468341491267267_n.jpg
END:VEVENT
END:VCALENDAR