BEGIN:VCALENDAR
VERSION:2.0
PRODID:-//Philadelphia Professional Football Cheerleader Alumni - ECPv6.15.20//NONSGML v1.0//EN
CALSCALE:GREGORIAN
METHOD:PUBLISH
X-ORIGINAL-URL:https://ppfca.org
X-WR-CALDESC:Events for Philadelphia Professional Football Cheerleader Alumni
REFRESH-INTERVAL;VALUE=DURATION:PT1H
X-Robots-Tag:noindex
X-PUBLISHED-TTL:PT1H
BEGIN:VTIMEZONE
TZID:America/New_York
BEGIN:DAYLIGHT
TZOFFSETFROM:-0500
TZOFFSETTO:-0400
TZNAME:EDT
DTSTART:20250309T070000
END:DAYLIGHT
BEGIN:STANDARD
TZOFFSETFROM:-0400
TZOFFSETTO:-0500
TZNAME:EST
DTSTART:20251102T060000
END:STANDARD
BEGIN:DAYLIGHT
TZOFFSETFROM:-0500
TZOFFSETTO:-0400
TZNAME:EDT
DTSTART:20260308T070000
END:DAYLIGHT
BEGIN:STANDARD
TZOFFSETFROM:-0400
TZOFFSETTO:-0500
TZNAME:EST
DTSTART:20261101T060000
END:STANDARD
BEGIN:DAYLIGHT
TZOFFSETFROM:-0500
TZOFFSETTO:-0400
TZNAME:EDT
DTSTART:20270314T070000
END:DAYLIGHT
BEGIN:STANDARD
TZOFFSETFROM:-0400
TZOFFSETTO:-0500
TZNAME:EST
DTSTART:20271107T060000
END:STANDARD
END:VTIMEZONE
BEGIN:VEVENT
DTSTART;TZID=America/New_York:20260426T130000
DTEND;TZID=America/New_York:20260426T160000
DTSTAMP:20260422T142943
CREATED:20260114T225333Z
LAST-MODIFIED:20260324T194216Z
UID:4740-1777208400-1777219200@ppfca.org
SUMMARY:Celebrity Bartending "Sunday Funday" Fundraiser
DESCRIPTION:  \nSave the Date! \n  \n   \n\n\n\n\n\n\n\n\n\nMedia’s Townehouse is hosting a fun\, feel-good afternoon featuring our PPFCA Celebrity Bartenders and fellow “Team Philadelphia Eagles Cheerleaders and Alumni” members\, Nikki Cathy & Tricia. They’ll be stepping behind the bar to mix up cocktails and mocktails for a great cause! \nStop in with family and friends for some delicious food and drinks\, catch the Phillies game\, and be part of the excitement of this one-of-a-kind event benefiting the 2026 Eagles Autism Challenge. \n April 26\, 2026 | 1–4 PM \nYear after year\, PPFCA members come together in creative\, heartfelt ways to support our Eagles family and make a meaningful impact in the Autism community. Come sip\, celebrate\, and be part of something truly special. \nMore exciting details coming soon!
URL:https://ppfca.org/event/celebrity-bartending-sunday-funday-fundraiser/
LOCATION:The Towne House\, 117 Veterans Square\, Media\, PA\, 19063\, United States
ATTACH;FMTTYPE=image/png:https://ppfca.org/wp-content/uploads/2026/01/Celeb-Bartending-Event-April-26-2.png
END:VEVENT
END:VCALENDAR