BEGIN:VCALENDAR
VERSION:2.0
PRODID:-//Philadelphia Professional Football Cheerleader Alumni - ECPv6.15.20//NONSGML v1.0//EN
CALSCALE:GREGORIAN
METHOD:PUBLISH
X-WR-CALNAME:Philadelphia Professional Football Cheerleader Alumni
X-ORIGINAL-URL:https://ppfca.org
X-WR-CALDESC:Events for Philadelphia Professional Football Cheerleader Alumni
REFRESH-INTERVAL;VALUE=DURATION:PT1H
X-Robots-Tag:noindex
X-PUBLISHED-TTL:PT1H
BEGIN:VTIMEZONE
TZID:America/New_York
BEGIN:DAYLIGHT
TZOFFSETFROM:-0500
TZOFFSETTO:-0400
TZNAME:EDT
DTSTART:20250309T070000
END:DAYLIGHT
BEGIN:STANDARD
TZOFFSETFROM:-0400
TZOFFSETTO:-0500
TZNAME:EST
DTSTART:20251102T060000
END:STANDARD
BEGIN:DAYLIGHT
TZOFFSETFROM:-0500
TZOFFSETTO:-0400
TZNAME:EDT
DTSTART:20260308T070000
END:DAYLIGHT
BEGIN:STANDARD
TZOFFSETFROM:-0400
TZOFFSETTO:-0500
TZNAME:EST
DTSTART:20261101T060000
END:STANDARD
BEGIN:DAYLIGHT
TZOFFSETFROM:-0500
TZOFFSETTO:-0400
TZNAME:EDT
DTSTART:20270314T070000
END:DAYLIGHT
BEGIN:STANDARD
TZOFFSETFROM:-0400
TZOFFSETTO:-0500
TZNAME:EST
DTSTART:20271107T060000
END:STANDARD
END:VTIMEZONE
BEGIN:VEVENT
DTSTART;VALUE=DATE:20260306
DTEND;VALUE=DATE:20260308
DTSTAMP:20260422T161753
CREATED:20251105T184149Z
LAST-MODIFIED:20260205T212409Z
UID:4100-1772755200-1772927999@ppfca.org
SUMMARY:Jaws Youth Playbook & PPFCA 5th Annual Prom Dress Drive
DESCRIPTION:PPFCA is once again collaborating with JAWS Youth Playbook for the 5th Annual Prom Dress Drive\, supporting young women in underserved communities. We are so #PPFCAProud to help create the “Prom Dress Shopping Experience of their Dreams!” 💚 \n  \nHow You Can Help: \n\nClick the image below to help make an impact by donating funds directly or making a purchase through the available Amazon wish list.\nVolunteer to help set-up the experience on 3/06/06\, volunteer to attend the event and help the attendees find the dress of their dreams on 3/07/06\, or both!\nCollect ready to-wear dresses\, handbags\, shoes and jewelry and donate them at Riverwinds Golf and Tennis Club\, through March 1st (*for more drop off locations\, please contact Kelly\, PPFCA Director of Volunteers\, at PPPFCAVolunteers@gmail.com).\nExplore the Sponsorship opportunities below!\n\nVolunteers Needed! \nPPFCA Members only\, please use this link to sign up for set up day and/or the prom dress event day! \n*Volunteers are asked to wear their favorite PPFCA or Philadelphia Eagles top and black pants with shoes of their choice for both days of the event\, please. \nMore details about volunteer responsibilities found using the link! \n               
URL:https://ppfca.org/event/jaws-youth-playbook-ppfca-prom-dress-drive/
LOCATION:Boys & Girls Club Germantown\, 25 W Penn Street\, Philadelphia\, 19144\, United States
ATTACH;FMTTYPE=image/png:https://ppfca.org/wp-content/uploads/2025/11/Toys-for-Tots-3.png
END:VEVENT
END:VCALENDAR