BEGIN:VCALENDAR
VERSION:2.0
PRODID:-//Philadelphia Professional Football Cheerleader Alumni - ECPv6.15.20//NONSGML v1.0//EN
CALSCALE:GREGORIAN
METHOD:PUBLISH
X-ORIGINAL-URL:https://ppfca.org
X-WR-CALDESC:Events for Philadelphia Professional Football Cheerleader Alumni
REFRESH-INTERVAL;VALUE=DURATION:PT1H
X-Robots-Tag:noindex
X-PUBLISHED-TTL:PT1H
BEGIN:VTIMEZONE
TZID:America/New_York
BEGIN:DAYLIGHT
TZOFFSETFROM:-0500
TZOFFSETTO:-0400
TZNAME:EDT
DTSTART:20250309T070000
END:DAYLIGHT
BEGIN:STANDARD
TZOFFSETFROM:-0400
TZOFFSETTO:-0500
TZNAME:EST
DTSTART:20251102T060000
END:STANDARD
BEGIN:DAYLIGHT
TZOFFSETFROM:-0500
TZOFFSETTO:-0400
TZNAME:EDT
DTSTART:20260308T070000
END:DAYLIGHT
BEGIN:STANDARD
TZOFFSETFROM:-0400
TZOFFSETTO:-0500
TZNAME:EST
DTSTART:20261101T060000
END:STANDARD
BEGIN:DAYLIGHT
TZOFFSETFROM:-0500
TZOFFSETTO:-0400
TZNAME:EDT
DTSTART:20270314T070000
END:DAYLIGHT
BEGIN:STANDARD
TZOFFSETFROM:-0400
TZOFFSETTO:-0500
TZNAME:EST
DTSTART:20271107T060000
END:STANDARD
END:VTIMEZONE
BEGIN:VEVENT
DTSTART;TZID=America/New_York:20260301T120000
DTEND;TZID=America/New_York:20260301T170000
DTSTAMP:20260422T161919
CREATED:20260124T005958Z
LAST-MODIFIED:20260124T010227Z
UID:4807-1772366400-1772384400@ppfca.org
SUMMARY:Macy’s Prom Dress Donation Party!
DESCRIPTION:Join us at Macy’s Springfield for our Prom Dress Donation Party! \nWe’re collecting gently used and new gowns\, shoes\, jewelry\, and handbags to donate to the Prom Drive in collaboration with Jaws Youth Playbook and the Philadelphia Professional Football Cheerleader Alumni. \nPreview this season’s latest prom trends in our Fashion Show and throughout our store. Visit our beauty stations for the latest makeup trends and mini makeovers. \nWe’re seeking volunteers from the Philadelphia Professional Football Cheerleader Alumni (PPFCA) to assist in collecting donations. PPFCA members will also support the event by helping our prom customers with styling their looks. \nVolunteer by signing up here\, (PPFCA Members only\, please.) \nThis will be a fun-filled event featuring a DJ\, fashion show\, prizes\, and more. Let’s shop for a cause! \nFor the Macy’s wish list QR code\, see our flyer below! \n(The Springfield Mall is located down the street from the YMCA where we held our Halftime Performance Practices!) \nHope to see you there! 
URL:https://ppfca.org/event/4807/
LOCATION:Springfield Macy’s\, 1250 Baltimore Pike\, Springfield\, PA\, 19064
ATTACH;FMTTYPE=image/jpeg:https://ppfca.org/wp-content/uploads/2026/01/Macys-Event-scaled.jpeg
END:VEVENT
END:VCALENDAR