BEGIN:VCALENDAR
VERSION:2.0
PRODID:-//Philadelphia Professional Football Cheerleader Alumni - ECPv6.15.20//NONSGML v1.0//EN
CALSCALE:GREGORIAN
METHOD:PUBLISH
X-WR-CALNAME:Philadelphia Professional Football Cheerleader Alumni
X-ORIGINAL-URL:https://ppfca.org
X-WR-CALDESC:Events for Philadelphia Professional Football Cheerleader Alumni
REFRESH-INTERVAL;VALUE=DURATION:PT1H
X-Robots-Tag:noindex
X-PUBLISHED-TTL:PT1H
BEGIN:VTIMEZONE
TZID:America/New_York
BEGIN:DAYLIGHT
TZOFFSETFROM:-0500
TZOFFSETTO:-0400
TZNAME:EDT
DTSTART:20250309T070000
END:DAYLIGHT
BEGIN:STANDARD
TZOFFSETFROM:-0400
TZOFFSETTO:-0500
TZNAME:EST
DTSTART:20251102T060000
END:STANDARD
BEGIN:DAYLIGHT
TZOFFSETFROM:-0500
TZOFFSETTO:-0400
TZNAME:EDT
DTSTART:20260308T070000
END:DAYLIGHT
BEGIN:STANDARD
TZOFFSETFROM:-0400
TZOFFSETTO:-0500
TZNAME:EST
DTSTART:20261101T060000
END:STANDARD
BEGIN:DAYLIGHT
TZOFFSETFROM:-0500
TZOFFSETTO:-0400
TZNAME:EDT
DTSTART:20270314T070000
END:DAYLIGHT
BEGIN:STANDARD
TZOFFSETFROM:-0400
TZOFFSETTO:-0500
TZNAME:EST
DTSTART:20271107T060000
END:STANDARD
END:VTIMEZONE
BEGIN:VEVENT
DTSTART;TZID=America/New_York:20260215T130000
DTEND;TZID=America/New_York:20260215T160000
DTSTAMP:20260422T175313
CREATED:20260114T213210Z
LAST-MODIFIED:20260117T185629Z
UID:4728-1771160400-1771171200@ppfca.org
SUMMARY:Galentine's "Paint\, Poms & Pour" Event Benefiting the 2026 Eagles Autism Foundation Challenge! 💚
DESCRIPTION:💚 PPFCA\, let’s come together to show some love for the Autism Community while enjoying a fun-filled Galentine’s afternoon together for a wonderful cause! This fun\, “Cheers-themed” painting session will be taught by our 1980’s Decade Representative\, and the creative force behind last year’s beautiful PPFCA Eagles Autism Challenge fundraiser print and artwork for our brunch drinks\, Kim Makuvek! Kim’s love for art\, connection\, and our Eagles family shines through in everything she creates. Visit her Etsy page here to view just a sample of her gorgeous work and talent!  \n*No art skills needed! It’s all about connecting\, laughter\, creativity\, and painting with your heart alongside your Eagles family. \nEvent Details: \n\nClass cost: $75 per participant (this includes all paint supplies).\nThis event is open to all PPFCA Members and 1 additional guest per member\, guests are $75 as well.\nThis event is BYOB\, feel free to bring drinks and snacks of your choice to nibble and sip as you paint!\nPlease also bring along a smock or apron to protect your clothing.\nRegister by January 23\, 2026…space is limited to the first 40 participants!\nEvent will be held at the Clubhouse.\nFree onsite parking.\n\nRegistration: \n\nDecide which option you’d like to paint:  \n Complete your online registration here\, marking your painting selection: PPFCA Galentine’s Paint\, Poms & Pour Event Registration\nSubmit your registration fee via PPFCA Venmo\, labeling your payment “PPP”. If you do not have access to Venmo\, please reach out to our Patti\, our PPFCA Treasurer  at PPFCATreasurer@gmail.com to send a check.\n\n*All proceeds benefit Team Philadelphia Eagles Cheerleaders & Alumni and the Eagles Autism Challenge! \n 
URL:https://ppfca.org/event/galentines-paint-poms-pour-event-benefiting-the-2026-eagles-autism-foundation-challenge-%f0%9f%92%9a/
LOCATION:Brandywine at Thornbury\, 157 Chaps Ln\, West Chester\, PA\, 19382
ATTACH;FMTTYPE=image/png:https://ppfca.org/wp-content/uploads/2026/01/Copy-of-Pink-and-Red-Illustrative-Galentines-Day-Party-Invitation-Instagram-Post-45.png
END:VEVENT
END:VCALENDAR