BEGIN:VCALENDAR
VERSION:2.0
PRODID:-//Philadelphia Professional Football Cheerleader Alumni - ECPv6.15.20//NONSGML v1.0//EN
CALSCALE:GREGORIAN
METHOD:PUBLISH
X-WR-CALNAME:Philadelphia Professional Football Cheerleader Alumni
X-ORIGINAL-URL:https://ppfca.org
X-WR-CALDESC:Events for Philadelphia Professional Football Cheerleader Alumni
REFRESH-INTERVAL;VALUE=DURATION:PT1H
X-Robots-Tag:noindex
X-PUBLISHED-TTL:PT1H
BEGIN:VTIMEZONE
TZID:America/New_York
BEGIN:DAYLIGHT
TZOFFSETFROM:-0500
TZOFFSETTO:-0400
TZNAME:EDT
DTSTART:20240310T070000
END:DAYLIGHT
BEGIN:STANDARD
TZOFFSETFROM:-0400
TZOFFSETTO:-0500
TZNAME:EST
DTSTART:20241103T060000
END:STANDARD
BEGIN:DAYLIGHT
TZOFFSETFROM:-0500
TZOFFSETTO:-0400
TZNAME:EDT
DTSTART:20250309T070000
END:DAYLIGHT
BEGIN:STANDARD
TZOFFSETFROM:-0400
TZOFFSETTO:-0500
TZNAME:EST
DTSTART:20251102T060000
END:STANDARD
BEGIN:DAYLIGHT
TZOFFSETFROM:-0500
TZOFFSETTO:-0400
TZNAME:EDT
DTSTART:20260308T070000
END:DAYLIGHT
BEGIN:STANDARD
TZOFFSETFROM:-0400
TZOFFSETTO:-0500
TZNAME:EST
DTSTART:20261101T060000
END:STANDARD
END:VTIMEZONE
BEGIN:VEVENT
DTSTART;TZID=America/New_York:20251102T100000
DTEND;TZID=America/New_York:20251102T140000
DTSTAMP:20260422T230224
CREATED:20241212T025017Z
LAST-MODIFIED:20250822T213206Z
UID:3081-1762077600-1762092000@ppfca.org
SUMMARY:2nd Annual PPFCA Brunch
DESCRIPTION:We invite you to celebrate and honor the 2024 class of Philadelphia Eagles Cheerleader Alumni as we welcome them to PPFCA with a delicious brunch and camaraderie amongst our fabulous alumni spanning 7 decades! \nWe are also excited and so #PPFCAProud to share Marylou Tammaro will be our special guest speaker! Many have had the pleasure of working with Marylou\, who was a Cheerleader\, Choreographer and Director during her remarkable career that spanned more than 20 years! \nPlease note: *This year’s Brunch is a Members-Only Event\, no additional non-member guests\, please. Still not a PPFCA member\, but want to join the fun? Click here to join today! \nBrunch tickets cost $60 and include: Brunch Buffet\, Champagne Toast\, Access to Professional Photography of Brunch Memories by Makuvek Photography\, Exclusive PPFCA Merchandise Shopping Experience\, Raffles\, Prizes\, Fashion Show\, and Much More!!! \nSuggested Attire: Dressy Casual \nThank you for your interest in our 2025 PPFCA Brunch. \nUnfortunately\, this event has SOLD OUT. We invite you to join the waitlist using the link below\, and you will be contacted by our \nDirector of Membership if/when any more tickets become available.  \nJoin the Waitlist here!
URL:https://ppfca.org/event/2nd-annual-ppfca-brunch/
LOCATION:The Towne House\, 117 Veterans Square\, Media\, PA\, 19063\, United States
ATTACH;FMTTYPE=image/png:https://ppfca.org/wp-content/uploads/2024/12/Save-the-date-Brunch-2025-Instagram-Post-45-1.png
END:VEVENT
END:VCALENDAR