BEGIN:VCALENDAR
VERSION:2.0
PRODID:-//Philadelphia Professional Football Cheerleader Alumni - ECPv6.15.20//NONSGML v1.0//EN
CALSCALE:GREGORIAN
METHOD:PUBLISH
X-WR-CALNAME:Philadelphia Professional Football Cheerleader Alumni
X-ORIGINAL-URL:https://ppfca.org
X-WR-CALDESC:Events for Philadelphia Professional Football Cheerleader Alumni
REFRESH-INTERVAL;VALUE=DURATION:PT1H
X-Robots-Tag:noindex
X-PUBLISHED-TTL:PT1H
BEGIN:VTIMEZONE
TZID:America/New_York
BEGIN:DAYLIGHT
TZOFFSETFROM:-0500
TZOFFSETTO:-0400
TZNAME:EDT
DTSTART:20240310T070000
END:DAYLIGHT
BEGIN:STANDARD
TZOFFSETFROM:-0400
TZOFFSETTO:-0500
TZNAME:EST
DTSTART:20241103T060000
END:STANDARD
BEGIN:DAYLIGHT
TZOFFSETFROM:-0500
TZOFFSETTO:-0400
TZNAME:EDT
DTSTART:20250309T070000
END:DAYLIGHT
BEGIN:STANDARD
TZOFFSETFROM:-0400
TZOFFSETTO:-0500
TZNAME:EST
DTSTART:20251102T060000
END:STANDARD
BEGIN:DAYLIGHT
TZOFFSETFROM:-0500
TZOFFSETTO:-0400
TZNAME:EDT
DTSTART:20260308T070000
END:DAYLIGHT
BEGIN:STANDARD
TZOFFSETFROM:-0400
TZOFFSETTO:-0500
TZNAME:EST
DTSTART:20261101T060000
END:STANDARD
END:VTIMEZONE
BEGIN:VEVENT
DTSTART;TZID=America/New_York:20250516T180000
DTEND;TZID=America/New_York:20250516T200000
DTSTAMP:20260423T091209
CREATED:20250323T015523Z
LAST-MODIFIED:20250323T020958Z
UID:3360-1747418400-1747425600@ppfca.org
SUMMARY:Eagles Autism Foundation Kickoff Party
DESCRIPTION:*Everyone who registers for the Eagles Autism Foundation Challenge receives an invitation to the pre-event Kickoff Party the night before at Lincoln Financial Field and Eagles swag bag!🦅 \n \n  \n\n#CHEERs to everyone who’s already joined “Team Philadelphia Eagles Cheerleaders” in support of the 2025 Eagles Autism Foundation Challenge! If you’d still like to sign up\, there’s plenty of time left to help make a meaningful impact! Friends and Family are more than welcome to register too! We had a wonderful time last year together\, supporting our #Eaglesfamily 💚🦅 \n\n  \nhttps://register.eaglesautismfoundation.org/?event=8882b7455d35f1a6e470&team=702b62f1a0f73cd77f69&team_invitation_source=69833336&fbclid=IwY2xjawI-YQFleHRuA2FlbQIxMQABHSAYmU1vbNjbbLslaargUCfvv6UxFq-xeABTbplmMJWntBgJ-26KOnOW5A_aem_T97lgEjMQeglyMkU5NtvBA
URL:https://ppfca.org/event/eagles-autism-foundation-kickoff-party/
LOCATION:Lincoln Financial Field\, One Lincoln Financial Field Way\, Philadelphia\, PA\, 19148
ATTACH;FMTTYPE=image/jpeg:https://ppfca.org/wp-content/uploads/2025/03/Screenshot_20250322_214508_Samsung-Internet.jpg
END:VEVENT
END:VCALENDAR