BEGIN:VCALENDAR
VERSION:2.0
PRODID:-//Philadelphia Professional Football Cheerleader Alumni - ECPv6.15.20//NONSGML v1.0//EN
CALSCALE:GREGORIAN
METHOD:PUBLISH
X-WR-CALNAME:Philadelphia Professional Football Cheerleader Alumni
X-ORIGINAL-URL:https://ppfca.org
X-WR-CALDESC:Events for Philadelphia Professional Football Cheerleader Alumni
REFRESH-INTERVAL;VALUE=DURATION:PT1H
X-Robots-Tag:noindex
X-PUBLISHED-TTL:PT1H
BEGIN:VTIMEZONE
TZID:America/New_York
BEGIN:DAYLIGHT
TZOFFSETFROM:-0500
TZOFFSETTO:-0400
TZNAME:EDT
DTSTART:20240310T070000
END:DAYLIGHT
BEGIN:STANDARD
TZOFFSETFROM:-0400
TZOFFSETTO:-0500
TZNAME:EST
DTSTART:20241103T060000
END:STANDARD
BEGIN:DAYLIGHT
TZOFFSETFROM:-0500
TZOFFSETTO:-0400
TZNAME:EDT
DTSTART:20250309T070000
END:DAYLIGHT
BEGIN:STANDARD
TZOFFSETFROM:-0400
TZOFFSETTO:-0500
TZNAME:EST
DTSTART:20251102T060000
END:STANDARD
BEGIN:DAYLIGHT
TZOFFSETFROM:-0500
TZOFFSETTO:-0400
TZNAME:EDT
DTSTART:20260308T070000
END:DAYLIGHT
BEGIN:STANDARD
TZOFFSETFROM:-0400
TZOFFSETTO:-0500
TZNAME:EST
DTSTART:20261101T060000
END:STANDARD
END:VTIMEZONE
BEGIN:VEVENT
DTSTART;TZID=America/New_York:20250426T100000
DTEND;TZID=America/New_York:20250426T120000
DTSTAMP:20260423T111135
CREATED:20250414T182725Z
LAST-MODIFIED:20250414T182747Z
UID:3614-1745661600-1745668800@ppfca.org
SUMMARY:Help Refresh the Lil' Philly Safety Village 🚲
DESCRIPTION:JAWS Youth Playbook helped fund this Lil’ Traffic Park- Now it’s in need of sprucing up!   \nPlease use the sign up link below to help our community!  \nPPFCA Members\, Volunteer to Sign up here: https://www.signupgenius.com/go/10C0A44A5A92EAAFAC34-56194311-lil?useFullSite=true \n 
URL:https://ppfca.org/event/help-lil-philly-safety-village-%f0%9f%9a%b2/
LOCATION:Lil Safety Village\, 1201 Hunting Park Ave.\, Philadelphia\, PA\, 19140
ATTACH;FMTTYPE=image/png:https://ppfca.org/wp-content/uploads/2025/04/Untitled-design-54.png
END:VEVENT
END:VCALENDAR