BEGIN:VCALENDAR
VERSION:2.0
PRODID:-//Philadelphia Professional Football Cheerleader Alumni - ECPv6.15.20//NONSGML v1.0//EN
CALSCALE:GREGORIAN
METHOD:PUBLISH
X-ORIGINAL-URL:https://ppfca.org
X-WR-CALDESC:Events for Philadelphia Professional Football Cheerleader Alumni
REFRESH-INTERVAL;VALUE=DURATION:PT1H
X-Robots-Tag:noindex
X-PUBLISHED-TTL:PT1H
BEGIN:VTIMEZONE
TZID:America/New_York
BEGIN:DAYLIGHT
TZOFFSETFROM:-0500
TZOFFSETTO:-0400
TZNAME:EDT
DTSTART:20240310T070000
END:DAYLIGHT
BEGIN:STANDARD
TZOFFSETFROM:-0400
TZOFFSETTO:-0500
TZNAME:EST
DTSTART:20241103T060000
END:STANDARD
BEGIN:DAYLIGHT
TZOFFSETFROM:-0500
TZOFFSETTO:-0400
TZNAME:EDT
DTSTART:20250309T070000
END:DAYLIGHT
BEGIN:STANDARD
TZOFFSETFROM:-0400
TZOFFSETTO:-0500
TZNAME:EST
DTSTART:20251102T060000
END:STANDARD
BEGIN:DAYLIGHT
TZOFFSETFROM:-0500
TZOFFSETTO:-0400
TZNAME:EDT
DTSTART:20260308T070000
END:DAYLIGHT
BEGIN:STANDARD
TZOFFSETFROM:-0400
TZOFFSETTO:-0500
TZNAME:EST
DTSTART:20261101T060000
END:STANDARD
END:VTIMEZONE
BEGIN:VEVENT
DTSTART;TZID=America/New_York:20250315T100000
DTEND;TZID=America/New_York:20250315T113000
DTSTAMP:20260423T125105
CREATED:20250116T163000Z
LAST-MODIFIED:20250204T143218Z
UID:3195-1742032800-1742038200@ppfca.org
SUMMARY:All Abilities Cheer Clinic Opportunity
DESCRIPTION:We are So #PPFCAProud to Present Two Opportunities for Any Youth\, aged 6-15\, to Attend the 2025 All Abilities Cheer Clinic for FREE\, Hosted by the Eagles Autism Foundation!\nThis exciting opportunity\, offered through PPFCA’s “Under our Wing” Initiative\, will be presented to 2 lucky applicants who will enjoy a fun-filled morning of cheer and dance! \nPPFCA strives to create opportunities and meaningful impact within our growing communities\, while furthering the rich legacy of Philadelphia Eagles Cheerleading.  We encourage all PPFCA Members to help us promote the chance to attend this once-in-a-lifetime\, 2025 All Abilities Cheer Clinic\, presented by the Eagles Autism Foundation! \n*”All clinics are built with resources and support integrated into the event structure to promote accessibility for all participants. Our goal is to create an inclusive environment that offers an experience for individuals with special needs to participate alongside their peers. This includes trained volunteers\, smaller group size\, a visual schedule for step-by-step guidance on how to prepare as well as a quiet space.” https://www.philadelphiaeagles.com/eaglesautismfoundation/allabilities \nCLICK HERE: Eagles Autism Foundation 2025 All-Abilities Cheer Clinic   for all the details & application criteria. We encourage you to print\, share and distribute everywhere! Please contact our 1990’s Decade Representative & Committee Chair\, Nikki with any questions. CHEERS! 💚
URL:https://ppfca.org/event/all-abilities-cheer-clinic-opportunity/
LOCATION:Lincoln Financial Field\, One Lincoln Financial Field Way\, Philadelphia\, PA\, 19148
ATTACH;FMTTYPE=image/png:https://ppfca.org/wp-content/uploads/2025/01/Under-1.png
END:VEVENT
END:VCALENDAR