BEGIN:VCALENDAR
VERSION:2.0
PRODID:-//Philadelphia Professional Football Cheerleader Alumni - ECPv6.15.20//NONSGML v1.0//EN
CALSCALE:GREGORIAN
METHOD:PUBLISH
X-WR-CALNAME:Philadelphia Professional Football Cheerleader Alumni
X-ORIGINAL-URL:https://ppfca.org
X-WR-CALDESC:Events for Philadelphia Professional Football Cheerleader Alumni
REFRESH-INTERVAL;VALUE=DURATION:PT1H
X-Robots-Tag:noindex
X-PUBLISHED-TTL:PT1H
BEGIN:VTIMEZONE
TZID:America/New_York
BEGIN:DAYLIGHT
TZOFFSETFROM:-0500
TZOFFSETTO:-0400
TZNAME:EDT
DTSTART:20240310T070000
END:DAYLIGHT
BEGIN:STANDARD
TZOFFSETFROM:-0400
TZOFFSETTO:-0500
TZNAME:EST
DTSTART:20241103T060000
END:STANDARD
BEGIN:DAYLIGHT
TZOFFSETFROM:-0500
TZOFFSETTO:-0400
TZNAME:EDT
DTSTART:20250309T070000
END:DAYLIGHT
BEGIN:STANDARD
TZOFFSETFROM:-0400
TZOFFSETTO:-0500
TZNAME:EST
DTSTART:20251102T060000
END:STANDARD
BEGIN:DAYLIGHT
TZOFFSETFROM:-0500
TZOFFSETTO:-0400
TZNAME:EDT
DTSTART:20260308T070000
END:DAYLIGHT
BEGIN:STANDARD
TZOFFSETFROM:-0400
TZOFFSETTO:-0500
TZNAME:EST
DTSTART:20261101T060000
END:STANDARD
END:VTIMEZONE
BEGIN:VEVENT
DTSTART;TZID=America/New_York:20250307T090000
DTEND;TZID=America/New_York:20250308T180000
DTSTAMP:20260423T124910
CREATED:20240815T013239Z
LAST-MODIFIED:20250114T195827Z
UID:2602-1741338000-1741456800@ppfca.org
SUMMARY:4th Annual Prom Dress Drive
DESCRIPTION:PPFCA is once again collaborating with JAWS Youth Playbook for the 4th Annual Prom Dress Drive\, supporting young women in underserved communities. We are so #PPFCAProud to help create the “Prom Dress Shopping Experience of their Dreams!” \nEvent Location: \nThe Boys and Girls Club of Germantown\, \n25 W. Penn Street\, Philadelphia \nEvent Dates: \n\nFriday\, March 7\, 2025\, from 9:00AM-4:00PM (set-up day)\n\n\nSaturday\, March 8\, 2025\, from 9:00AM-6:00PM (Prom Shopping Event Day & Event Break Down)\n\nWe are Currently Seeking: \n\nEvent Sponsors\nEvent Volunteers for 3/7/25 & 3/8/25 (PPFCA Members only please. Plan to wear black pants and any PPFCA top of your choice)\nProm Wear Donations (*ready-to wear dresses\, shoes\, evening bags & jewelry)\nAmazon Wish List Donations for anyone unable to attend but who’d still love to contribute to this event\nItems to be added to Swag Bags for teens shopping at the event (please reach out to our PPFCA Director of Volunteers Kelly Nickischer-Crits)\nTeens (high school or college-aged) seeking volunteer or community service hours\, who are available for event breakdown on 3/8/25 from 5:00-6:00PM (please reach out to our PPFCA Director of Volunteers Kelly Nickischer-Crits)\n\nProm Dress Donation Locations: \n \nSign up to Volunteer Here: (PPFCA Members only\, please) \n \n\n 
URL:https://ppfca.org/event/2602/
LOCATION:Boys & Girls Club Germantown\, 25 W Penn Street\, Philadelphia\, 19144\, United States
ATTACH;FMTTYPE=image/png:https://ppfca.org/wp-content/uploads/2024/08/PDD2.png
END:VEVENT
END:VCALENDAR