BEGIN:VCALENDAR
VERSION:2.0
PRODID:-//Philadelphia Professional Football Cheerleader Alumni - ECPv6.15.20//NONSGML v1.0//EN
CALSCALE:GREGORIAN
METHOD:PUBLISH
X-WR-CALNAME:Philadelphia Professional Football Cheerleader Alumni
X-ORIGINAL-URL:https://ppfca.org
X-WR-CALDESC:Events for Philadelphia Professional Football Cheerleader Alumni
REFRESH-INTERVAL;VALUE=DURATION:PT1H
X-Robots-Tag:noindex
X-PUBLISHED-TTL:PT1H
BEGIN:VTIMEZONE
TZID:America/New_York
BEGIN:DAYLIGHT
TZOFFSETFROM:-0500
TZOFFSETTO:-0400
TZNAME:EDT
DTSTART:20240310T070000
END:DAYLIGHT
BEGIN:STANDARD
TZOFFSETFROM:-0400
TZOFFSETTO:-0500
TZNAME:EST
DTSTART:20241103T060000
END:STANDARD
BEGIN:DAYLIGHT
TZOFFSETFROM:-0500
TZOFFSETTO:-0400
TZNAME:EDT
DTSTART:20250309T070000
END:DAYLIGHT
BEGIN:STANDARD
TZOFFSETFROM:-0400
TZOFFSETTO:-0500
TZNAME:EST
DTSTART:20251102T060000
END:STANDARD
BEGIN:DAYLIGHT
TZOFFSETFROM:-0500
TZOFFSETTO:-0400
TZNAME:EDT
DTSTART:20260308T070000
END:DAYLIGHT
BEGIN:STANDARD
TZOFFSETFROM:-0400
TZOFFSETTO:-0500
TZNAME:EST
DTSTART:20261101T060000
END:STANDARD
END:VTIMEZONE
BEGIN:VEVENT
DTSTART;TZID=America/New_York:20250218T080000
DTEND;TZID=America/New_York:20250301T000000
DTSTAMP:20260423T143509
CREATED:20250219T003833Z
LAST-MODIFIED:20250219T004506Z
UID:3276-1739865600-1740787200@ppfca.org
SUMMARY:PPFCA History Fundraiser for Team Philadelphia Eagles Cheerleaders!
DESCRIPTION:Purchase an original piece of PPFCA History\, designed by Philadelphia Professional Football Cheerleader Alumni Kim Nickischer Makuvek\, in support of Team Philadelphia Eagles Cheerleaders in the 2025 Eagles Autism Challenge!  Kim has created a special design in honor of our Eagles Cheerleading history & the impact we have made on and off the field. 100% of the proceeds will be used toward our Eagles Autism Challenge “Team Philadelphia Eagles Cheerleaders” fundraising goals!\n\n\n\n \nhttps://docs.google.com/…/1FAIpQLSdhOHtVnNXRg2…/viewform
URL:https://ppfca.org/event/ppfca-history-fundraiser-for-team-philadelphia-eagles-cheerleaders/
LOCATION:NJ
ATTACH;FMTTYPE=image/png:https://ppfca.org/wp-content/uploads/2025/02/ART-by-KM.png
END:VEVENT
END:VCALENDAR