BEGIN:VCALENDAR
VERSION:2.0
PRODID:-//Philadelphia Professional Football Cheerleader Alumni - ECPv6.15.20//NONSGML v1.0//EN
CALSCALE:GREGORIAN
METHOD:PUBLISH
X-WR-CALNAME:Philadelphia Professional Football Cheerleader Alumni
X-ORIGINAL-URL:https://ppfca.org
X-WR-CALDESC:Events for Philadelphia Professional Football Cheerleader Alumni
REFRESH-INTERVAL;VALUE=DURATION:PT1H
X-Robots-Tag:noindex
X-PUBLISHED-TTL:PT1H
BEGIN:VTIMEZONE
TZID:America/New_York
BEGIN:DAYLIGHT
TZOFFSETFROM:-0500
TZOFFSETTO:-0400
TZNAME:EDT
DTSTART:20230312T070000
END:DAYLIGHT
BEGIN:STANDARD
TZOFFSETFROM:-0400
TZOFFSETTO:-0500
TZNAME:EST
DTSTART:20231105T060000
END:STANDARD
BEGIN:DAYLIGHT
TZOFFSETFROM:-0500
TZOFFSETTO:-0400
TZNAME:EDT
DTSTART:20240310T070000
END:DAYLIGHT
BEGIN:STANDARD
TZOFFSETFROM:-0400
TZOFFSETTO:-0500
TZNAME:EST
DTSTART:20241103T060000
END:STANDARD
BEGIN:DAYLIGHT
TZOFFSETFROM:-0500
TZOFFSETTO:-0400
TZNAME:EDT
DTSTART:20250309T070000
END:DAYLIGHT
BEGIN:STANDARD
TZOFFSETFROM:-0400
TZOFFSETTO:-0500
TZNAME:EST
DTSTART:20251102T060000
END:STANDARD
END:VTIMEZONE
BEGIN:VEVENT
DTSTART;TZID=America/New_York:20241112T080000
DTEND;TZID=America/New_York:20241210T170000
DTSTAMP:20260423T174401
CREATED:20241112T194449Z
LAST-MODIFIED:20241203T230433Z
UID:2860-1731398400-1733850000@ppfca.org
SUMMARY:Toys for Tots Holiday Toy Drive
DESCRIPTION:We’d like to extend a big THANK YOU to all of the alumni who’ve already made generous donations to help create some extra CHEER this holiday season for children in the Philadelphia Area!\nPPFCA is wholeheartedly committed to continuing the rich legacy of Philadelphia Eagles Cheerleading\, which includes giving back to our diverse communities. For our 4th Annual “Holiday Giving from the Heart\,” Initiative\, we proudly join the efforts of the National Football Cheerleaders Alumni Association in collecting gifts for “Toys for Tots” in the Philadelphia area. \n “When you give today\, you’ll help us fill our toy box with gifts and ensure every child has a present to open his holiday season. Your contribution\, no matter the size\, will go a long way in bringing smiles and joy to children who need it most.” \n\nCurrent drop off locations are still being confirmed\, however you can send gifts from the current Amazon Wish List found here\, or purchase your own gifts online. Every donation is greatly appreciated!\nPlease send all online gifts directly to our PPFCA Director of Community Affairs\, at the following address:\n\nErin Goga \n235 Fireline Rd \nKintnersville\, PA 18930 \n  \n  \n  \n  \n  \n 
URL:https://ppfca.org/event/toys-for-tots-holiday-toy-drive/
LOCATION:NJ
ATTACH;FMTTYPE=image/png:https://ppfca.org/wp-content/uploads/2024/11/Holiday-Toy-Drive.png
END:VEVENT
BEGIN:VEVENT
DTSTART;TZID=America/New_York:20241210T110000
DTEND;TZID=America/New_York:20241210T130000
DTSTAMP:20260423T174401
CREATED:20241203T175729Z
LAST-MODIFIED:20241204T133723Z
UID:3000-1733828400-1733835600@ppfca.org
SUMMARY:🐻 Marine Corps Reserve's Toys for Tots Volunteer Opportunity
DESCRIPTION:PPFCA  is asking for 5 Alumni Members to volunteer to help unload\, organize and sort gifts donated to Toys for Tots at their Donation Location in Bristol\, PA.🎁\n\n\n\nOur Director of Community Affairs\, Erin Goga\, to also be there to deliver the gifts already collected from our generous Alumni\, and will join the other Alumni in the organization efforts. We appreciate your interest in this community event\, please know your generosity and time will help bring smiles and joy to many children throughout the Philadelphia area this holiday season!\n\nLet’s help make this holiday unforgettable for everyone! CHEERS! 💚\n\n\nPlease come dressed in your favorite PPFCA attire.\nEmail  our Director of Volunteers\, Kelly at PPFCAVolunteers@gmail.com to RSVP. We are looking for 5 PPFCA Members to help out with this volunteer opportunity\, with the understanding that volunteers will be chosen on a 1st come 1st serve basis.\nParking is available at the Bristol Donation Location\, but is limited.\nIf you’d still like to donate an unwrapped toy and spread some extra holiday CHEER\, we invite you to purchase an item from this AMAZON WISH LIST  by December 10\, 2024.\n\n(*Duplicates of listed toys are fine\, all donations are greatly appreciated!) If you choose to send an item from another online shop\, please send all online gifts directly to our PPFCA Director of Community Affairs\, at the following address:\n\nErin Goga\n235 Fireline Rd\nKintnersville\, PA 18930
URL:https://ppfca.org/event/%f0%9f%90%bb-marine-corps-reserves-toys-for-tots-big-bus-toy-express/
LOCATION:Toys for Tots Philadelphia Donations Location\, 219 Rittenhouse Circle\, Bristol\, PA\, 19007
ATTACH;FMTTYPE=image/png:https://ppfca.org/wp-content/uploads/2024/12/Holiday-Toy-Drive_20241204_083422_0000.png
END:VEVENT
END:VCALENDAR